BEGIN:VCALENDAR
VERSION:2.0
PRODID:-//CiviCRM//NONSGML CiviEvent iCal//EN
X-WR-TIMEZONE:America/Los_Angeles
METHOD:PUBLISH
BEGIN:VEVENT
UID:CiviCRM_EventID_231_796981363b7fe97d8ced24c9a01a88de@institute.coop
SUMMARY:Unlocking Ownership Capital
DESCRIPTION:\n \n Access to capital is one of the largest obst
 acles for workers locked out of good jobs and busi
 ness ownership opportunities.&nbsp\;Join us for a 
 webinar on December 14th on innovative solutions\,
  particularly for Black and brown workers locked o
 ut of business ownership opportunities.&nbsp\;\n \
 n Learn from those on the leading edge of innovati
 ve capital solutions like Seed Commons&rsquo\; eff
 orts to make loans work for workers across the cou
 ntry\, Common Future&rsquo\;s character-based appr
 oach to lending\, W.K.&nbsp\;Kellogg Foundation&rs
 quo\;s role in supporting racial equity business s
 trategies\, and DAWI&rsquo\;s incubation of the Le
 gacy Business Fund I by Apis &amp\; Heritage.\n \n
  Date &amp\; Time: December 14th\, 10 a.m. PT / 1 
 p.m. ET\n \n Speakers:\n \n Shevanthi Daniel\, The
  Democracy at Work Institute\n \n Todd Leverette\,
  Apis &amp\; Heritage Capital Partners\n \n Jeanne
  K. Wardford\, W.K. Kellogg Foundation\n \n Kate K
 hatib\, Seed Commons\n \n Rodney Foxworth\, Common
  Future\n \n Melissa Hoover\, The Democracy at Wor
 k Institute\n \n &nbsp\;\n \n Click here to regist
 er\n \n &nbsp\;\n \n &nbsp\;\n \n &nbsp\;
CATEGORIES:Webinar
CALSCALE:GREGORIAN
DTSTAMP;VALUE=DATE-TIME:20211214T100000
DTSTART;VALUE=DATE-TIME:20211214T100000
DTEND;VALUE=DATE-TIME:20211214T110000
LOCATION:United States\n 
URL:https://institute.coop/civicrm/event/info?reset=1&id=231
END:VEVENT
END:VCALENDAR
